BEGIN:VCALENDAR
VERSION:2.0
PRODID:-//eventon.com NONSGML v1.0//EN
CALSCALE:GREGORIAN
METHOD:PUBLISH
BEGIN:VEVENT
UID:69e7b0cb72a01
DTSTAMP:20260421T171555Z
DTSTART:20220527T070000Z
DTEND:20220527T110000Z
LOCATION:
SUMMARY:Drag It Out presents Balls N Bingo
DESCRIPTION:Balls &#8216;n&#8217; Bingo is coming to Timaru! CASH prizes to
  be won. Come hang out with 2 of Christchurch’s most fabulous drag queens
  Miss Shaniqwa &amp; Lady Bubbles. If you want to be entertained and a nigh
 t of laughs\,  performances\,  shenanigans and let’s be honest we all lov
 e a chance[..]\nhttps://southcanterbury.org.nz/events/drag-it-out-presents-
 balls-n-bingo/
URL:https://southcanterbury.org.nz/events/drag-it-out-presents-balls-n-bingo/
END:VEVENT
END:VCALENDAR