BEGIN:VCALENDAR
VERSION:2.0
PRODID:-//eventon.com NONSGML v1.0//EN
CALSCALE:GREGORIAN
METHOD:PUBLISH
BEGIN:VEVENT
UID:69e644a10cf7b
DTSTAMP:20260420T152209Z
DTSTART:20220630T093000Z
DTEND:20220630T020000Z
LOCATION:Southern Trust Event Centre Aorangi Park\,  70 Morgans Road
SUMMARY:Jump Jam Extravaganza 2022
DESCRIPTION:Sport Canterbury&#8217;s dynamic and highly respected Jump Jam 
 Extravaganza has become a highlight on the school&#8217;s calendar. This ev
 ent inspires children to choose their favourite routine and hone their skil
 ls. It is a supercharged showcase of teamwork and physical aptitude. Mark t
 he date on your calendar and come along and[..]\nhttps://southcanterbury.or
 g.nz/events/jump-jam-extravaganza-2022/
URL:https://southcanterbury.org.nz/events/jump-jam-extravaganza-2022/
END:VEVENT
END:VCALENDAR