BEGIN:VCALENDAR
VERSION:2.0
PRODID:-//eventon.com NONSGML v1.0//EN
CALSCALE:GREGORIAN
METHOD:PUBLISH
BEGIN:VEVENT
UID:69e095423bec2
DTSTAMP:20260416T075234Z
DTSTART:20220722T213000Z
DTEND:20220723T003000Z
LOCATION:Timaru Artisan Farmers Market 2 George Street\,  Timaru
SUMMARY:MID-WINTER CHRISTMAS MARKET
DESCRIPTION:Join us for some Mid-Winter fun at our MID-WINTER CHRISTMAS MAR
 KET next Saturday 23rd July from 9-12:30pm at 2 George St outside the Speig
 hts Ale House!!&nbsp;&nbsp;With 60 local food\,  craft and produce stalls t
 here’s something for everyone and live music from the fabulous BORU! We c
 annot wait to see you[..]\nhttps://southcanterbury.org.nz/events/mid-winter
 -christmas-market/
URL:https://southcanterbury.org.nz/events/mid-winter-christmas-market/
END:VEVENT
END:VCALENDAR