BEGIN:VCALENDAR
VERSION:2.0
PRODID:-//eventon.com NONSGML v1.0//EN
CALSCALE:GREGORIAN
METHOD:PUBLISH
BEGIN:VEVENT
UID:69ec9a1b5bde1
DTSTAMP:20260425T104027Z
DTSTART:20230401T210000Z
DTEND:20230402T040000Z
LOCATION:Geraldine District
SUMMARY:Geraldine Adventure Race
DESCRIPTION:Adventure Racing is an exciting &amp; challenging team sport. I
 t involves travelling on foot and by mountain bike to collect checkpoints m
 arked on a map. The course will take teams on an exciting\,  cross country 
 adventure through native bush\,  streams\,  farmland and trails. The course
  will be kept secret until[..]\nhttps://southcanterbury.org.nz/events/geral
 dine-adventure-race-3/
URL:https://southcanterbury.org.nz/events/geraldine-adventure-race-3/
END:VEVENT
END:VCALENDAR