BEGIN:VCALENDAR
VERSION:2.0
PRODID:-//eventon.com NONSGML v1.0//EN
CALSCALE:GREGORIAN
METHOD:PUBLISH
BEGIN:VEVENT
UID:69eb7a43305a5
DTSTAMP:20260424T141219Z
DTSTART:20230701T083000Z
DTEND:20230701T123000Z
LOCATION:Top Pub Fairlie 69 Main Street\,  Fairlie
SUMMARY:FLIP SIDE head to the TOP PUB FAIRLIE July 1st
DESCRIPTION:Get ready for a fun night in FAIRLIE! FLIP SIDE are heading to 
 the TOP PUB July 1st to sing you all the big hits from all decades 50s 60s 
 70s 80s 90s 2000s We wanna see how much fun Fairlie can have so spread the 
 word\,  grab ya mates[..]\nhttps://southcanterbury.org.nz/events/flip-side-
 head-to-the-top-pub-fairlie-july-1st/
URL:https://southcanterbury.org.nz/events/flip-side-head-to-the-top-pub-fairlie-july-1st/
END:VEVENT
END:VCALENDAR