BEGIN:VCALENDAR
VERSION:2.0
PRODID:-//eventon.com NONSGML v1.0//EN
CALSCALE:GREGORIAN
METHOD:PUBLISH
BEGIN:VEVENT
UID:69e63a5cbd228
DTSTAMP:20260420T143820Z
DTSTART:20230818T080000Z
DTEND:20230818T115000Z
LOCATION:Hector Blacks 129 Stafford Street Timaru
SUMMARY:Frank Ramirez - Live at Hector Black's
DESCRIPTION:Singer-Guitarist\,  Frank\,  is a regular and a firm favourite 
 at Hector Black’s. He is a solo acoustic performer based in the South Isl
 and playing a variety of styles and songs from the last 60 years.\nhttps://
 southcanterbury.org.nz/events/frank-ramirez-live-at-hector-blacks/
URL:https://southcanterbury.org.nz/events/frank-ramirez-live-at-hector-blacks/
END:VEVENT
END:VCALENDAR