BEGIN:VCALENDAR
VERSION:2.0
PRODID:-//eventon.com NONSGML v1.0//EN
CALSCALE:GREGORIAN
METHOD:PUBLISH
BEGIN:VEVENT
UID:69e710424bf66
DTSTAMP:20260421T055058Z
DTSTART:20230909T210000Z
DTEND:20230910T060000Z
LOCATION:Frenally Craft Shop and Milford P.O.P 569 Milford Clandeboye Road Temuma
SUMMARY:Make and fill a simple Junk Journal
DESCRIPTION:First you will make and decorate the journal cover and sew in t
 he pages. Then make the ephemera\,  tags pockets and embellishments and fil
 l your journal. Tea \,  coffee\,  and afternoon tea provided . Bring your o
 wn lunch. All materials supplied. $50 for the day. This is a fun craft[..]\
 nhttps://southcanterbury.org.nz/events/make-and-fill-a-simple-junk-journal/
URL:https://southcanterbury.org.nz/events/make-and-fill-a-simple-junk-journal/
END:VEVENT
END:VCALENDAR