BEGIN:VCALENDAR
VERSION:2.0
PRODID:-//eventon.com NONSGML v1.0//EN
CALSCALE:GREGORIAN
METHOD:PUBLISH
BEGIN:VEVENT
UID:69e59751e8e13
DTSTAMP:20260420T030241Z
DTSTART:20230926T084800Z
DTEND:20230926T084800Z
LOCATION:St Mary's Anglican Church\,  Geraldine 77 Talbot Street\,  Geraldine 7930\,  New Zealand
SUMMARY:Friday Lunchtime Concert Series
DESCRIPTION:St Mary&#8217;s Friday Lunchtime Concert Series is on again wit
 h local entertainers performing each Friday lunchtime from now till Novembe
 r 10th. Enjoy wonderful performances of live singing and music from local s
 chools and singing students. Entry &#8211; Koha appreciated.\nhttps://south
 canterbury.org.nz/events/friday-lunchtime-concert-series/
URL:https://southcanterbury.org.nz/events/friday-lunchtime-concert-series/
END:VEVENT
END:VCALENDAR