BEGIN:VCALENDAR
VERSION:2.0
PRODID:-//eventon.com NONSGML v1.0//EN
CALSCALE:GREGORIAN
METHOD:PUBLISH
BEGIN:VEVENT
UID:69eba67943c4b
DTSTAMP:20260424T172057Z
DTSTART:20240525T073000Z
DTEND:20240525T093000Z
LOCATION:Geraldine Cinema Talbot Street\,  Geraldine
SUMMARY:"FIVE KINGDOMS TRILOGY - The Forest" Local Film Premiere
DESCRIPTION:PREMIERE SCREENING at the Geraldine Cinema for LOCAL GERALDINE 
 STARS: Nicky Whiteside &#8211; plays the Grand Duchess Anstice Franken a pi
 votal character in the Court of Albion in the valley of Acheron. Star of &#
 8220;THE GRAVITY REJECTS&#8221; which won an award with Bruce Jowsey &#038;
  Tim Scandrett. Patt Walsh (Geraldine[..]\nhttps://southcanterbury.org.nz/e
 vents/five-kingdoms-trilogy-the-forest-local-film-premiere/
URL:https://southcanterbury.org.nz/events/five-kingdoms-trilogy-the-forest-local-film-premiere/
END:VEVENT
END:VCALENDAR