BEGIN:VCALENDAR
VERSION:2.0
PRODID:-//eventon.com NONSGML v1.0//EN
CALSCALE:GREGORIAN
METHOD:PUBLISH
BEGIN:VEVENT
UID:69ea481630191
DTSTAMP:20260423T162558Z
DTSTART:20240726T210000Z
DTEND:20240727T003000Z
LOCATION:Timaru Artisan Farmers Market 2 George Street\,  Timaru
SUMMARY:Mid Winter Christmas Market
DESCRIPTION:Mark your calendars!!&nbsp;&nbsp;Celebrate the second half of t
 he year and longer and brighter days&nbsp;&nbsp;All whilst filling up on de
 licious and hot food and drinks and shopping locally for groceries and gift
 s (for others and yourself) to your hearts content with great love music!&n
 bsp; Join us Saturday 27th July from 9-12:30pm[..]\nhttps://southcanterbury
 .org.nz/events/mid-winter-christmas-market-3/
URL:https://southcanterbury.org.nz/events/mid-winter-christmas-market-3/
END:VEVENT
END:VCALENDAR