BEGIN:VCALENDAR
VERSION:2.0
PRODID:-//eventon.com NONSGML v1.0//EN
CALSCALE:GREGORIAN
METHOD:PUBLISH
BEGIN:VEVENT
UID:69e651531f412
DTSTAMP:20260420T161619Z
DTSTART:20240630T220000Z
DTEND:20240701T090000Z
LOCATION:Grey Way Lounge\,  Phar Lap Raceway Washdyke\,  Timaru
SUMMARY:Women's Wellness Day
DESCRIPTION:Two 2 hour sessions for women take time out for themselves and 
 learn skills to cope with change . Alicia Mabey a Health and Wellbeing Coac
 h will take these two sessions\,  one between 10am &#8211; 12 noon and anot
 her between 7pm -9pm.\nhttps://southcanterbury.org.nz/events/womens-wellnes
 s-day/
URL:https://southcanterbury.org.nz/events/womens-wellness-day/
END:VEVENT
END:VCALENDAR