BEGIN:VCALENDAR
VERSION:2.0
PRODID:-//eventon.com NONSGML v1.0//EN
CALSCALE:GREGORIAN
METHOD:PUBLISH
BEGIN:VEVENT
UID:69e7035b6d834
DTSTAMP:20260421T045555Z
DTSTART:20240727T120000Z
DTEND:20240728T003000Z
LOCATION:Centennial Park Quarry Road\,  Timaru
SUMMARY:Kids Chocolate Fish Bike Race
DESCRIPTION:PLEASE NOTE KIDS TRACK LOCATION Kids mountain bike race\,  base
 d at the kids track area in the Scenic Reserve\,  for ages 2-12. Two differ
 ent courses for different levels/ages.Kids ride as many laps as they want a
 round the track in 30mins &#8211; $2 entry fee and every child gets a choco
 late[..]\nhttps://southcanterbury.org.nz/events/kids-chocolate-fish-bike-ra
 ce/
URL:https://southcanterbury.org.nz/events/kids-chocolate-fish-bike-race/
END:VEVENT
END:VCALENDAR