BEGIN:VCALENDAR
VERSION:2.0
PRODID:-//eventon.com NONSGML v1.0//EN
CALSCALE:GREGORIAN
METHOD:PUBLISH
BEGIN:VEVENT
UID:69e9fa6e11fc3
DTSTAMP:20260423T105438Z
DTSTART:20240914T070000Z
DTEND:20240914T093000Z
LOCATION:St Mary's Anglican Church - Hall\,  Timaru 24 Church Street Timaru
SUMMARY:Last Night of the Proms
DESCRIPTION:Get ready for a spectacular night of music and celebration as t
 he Last Night of the Proms returns this September! Featuring an impressive 
 lineup\,  including: St Mary’s Adult and Children’s Choirs The Youth Or
 chestra of South Canterbury The Alpine Energy Timaru Brass Band The Craighe
 ad Diocesan School Choir and Special[..]\nhttps://southcanterbury.org.nz/ev
 ents/last-night-of-the-proms-3/
URL:https://southcanterbury.org.nz/events/last-night-of-the-proms-3/
END:VEVENT
END:VCALENDAR