BEGIN:VCALENDAR
VERSION:2.0
PRODID:-//eventon.com NONSGML v1.0//EN
CALSCALE:GREGORIAN
METHOD:PUBLISH
BEGIN:VEVENT
UID:69e9dd8434059
DTSTAMP:20260423T085116Z
DTSTART:20240914T220000Z
DTEND:20240915T020000Z
LOCATION:Barton Rural School 462 Fairview Road\,  Timaru\,  New Zealand
SUMMARY:Barton Rural School Fair
DESCRIPTION:Save the date! Barton Rural Spring Fair will be back for 2024 o
 n Sunday 15 September Corner of Barton and Fairview Roads\,  Timaru\,  from
  10am till 2pm Fun and games for the whole family\,  food\,  entertainment 
 and prizes galore! See you there! If you would be interested in having a[..
 ]\nhttps://southcanterbury.org.nz/events/barton-rural-school-fair/
URL:https://southcanterbury.org.nz/events/barton-rural-school-fair/
END:VEVENT
END:VCALENDAR