BEGIN:VCALENDAR
VERSION:2.0
PRODID:-//eventon.com NONSGML v1.0//EN
CALSCALE:GREGORIAN
METHOD:PUBLISH
BEGIN:VEVENT
UID:69ed842b25254
DTSTAMP:20260426T031907Z
DTSTART:20241011T170000Z
DTEND:20241011T210000Z
LOCATION:Caroline Bay\,  Timaru
SUMMARY:Twilight Mini Golf
DESCRIPTION:The evenings are getting longer and warmer\,  so we’re excite
 d to trial Twilight Mini Golf this Friday\,  October 11th! We’ll be open 
 until 9pm\,  with the last entry at 8:30pm. So\,  gather the family and com
 e enjoy a round of mini golf under the evening sky. If it’s a hit\, [..]\
 nhttps://southcanterbury.org.nz/events/twilight-mini-golf/
URL:https://southcanterbury.org.nz/events/twilight-mini-golf/
END:VEVENT
END:VCALENDAR