BEGIN:VCALENDAR
VERSION:2.0
PRODID:-//eventon.com NONSGML v1.0//EN
CALSCALE:GREGORIAN
METHOD:PUBLISH
BEGIN:VEVENT
UID:69e9096c46eb3
DTSTAMP:20260422T174620Z
DTSTART:20241109T090000Z
DTEND:20241109T170000Z
LOCATION:
SUMMARY:South Canterbury A&P Show
DESCRIPTION:Join us at the Waimate A&#038;P Showgrounds and be entertained 
 by a variety of events from demos\,  workshops\,  competitions\,  buskers\,
   live music and much more! There’s great prizes up for grabs too\,  so c
 ome along and have a go.\nhttps://southcanterbury.org.nz/events/south-cante
 rbury-ap-show/
URL:https://southcanterbury.org.nz/events/south-canterbury-ap-show/
END:VEVENT
END:VCALENDAR