BEGIN:VCALENDAR
VERSION:2.0
PRODID:-//eventon.com NONSGML v1.0//EN
CALSCALE:GREGORIAN
METHOD:PUBLISH
BEGIN:VEVENT
UID:69e1ac39df5d7
DTSTAMP:20260417T034249Z
DTSTART:20241025T193000Z
DTEND:20241026T193000Z
LOCATION:
SUMMARY:The Radio Geraldine Show
DESCRIPTION:A show with Geraldine Local Gems showcasing there amazing voice
 s singing songs from 50’s\,  60’s &#038; 80’s Door Sales Available $3
 0 a ticket\nhttps://southcanterbury.org.nz/events/the-radio-geraldine-show-
 3/
URL:https://southcanterbury.org.nz/events/the-radio-geraldine-show-3/
END:VEVENT
END:VCALENDAR