BEGIN:VCALENDAR
VERSION:2.0
PRODID:-//eventon.com NONSGML v1.0//EN
CALSCALE:GREGORIAN
METHOD:PUBLISH
BEGIN:VEVENT
UID:69e903a57c53b
DTSTAMP:20260422T172141Z
DTSTART:20250323
DTEND:20250324
LOCATION:CBay Aquatic Center Te Weka Street
SUMMARY:ACC RIDE FOREVER SILVER: Motorcycle Training with Clive Chapman
DESCRIPTION:Join us for this high quality training day at an almost free pr
 ice. Learn new skills\,  get ready for you full motorcycle licence assessme
 nt with us\,  and have a huge amount of fun in the process\nhttps://southca
 nterbury.org.nz/events/acc-ride-forever-silver-motorcycle-training-with-cli
 ve-chapman/
URL:https://southcanterbury.org.nz/events/acc-ride-forever-silver-motorcycle-training-with-clive-chapman/
END:VEVENT
END:VCALENDAR