BEGIN:VCALENDAR
VERSION:2.0
PRODID:-//eventon.com NONSGML v1.0//EN
CALSCALE:GREGORIAN
METHOD:PUBLISH
BEGIN:VEVENT
UID:69e59738e4fda
DTSTAMP:20260420T030216Z
DTSTART:20250305T203000Z
DTEND:20250305T233000Z
LOCATION:
SUMMARY:Disciplinary Process
DESCRIPTION:The Disciplinary Process With personal grievances on the rise\,
   do you and your managers feel confident taking disciplinary action? Faili
 ng to follow the correct procedures can result in time consuming and expens
 ive personal grievances. Topics include • When and how to take disciplina
 ry action• How to give a fair warning•[..]\nhttps://southcanterbury.org
 .nz/events/disciplinary-process/
URL:https://southcanterbury.org.nz/events/disciplinary-process/
END:VEVENT
END:VCALENDAR