BEGIN:VCALENDAR
VERSION:2.0
PRODID:-//eventon.com NONSGML v1.0//EN
CALSCALE:GREGORIAN
METHOD:PUBLISH
BEGIN:VEVENT
UID:69e4f0853a1aa
DTSTAMP:20260419T151101Z
DTSTART:20250221T063000Z
DTEND:20250223T020000Z
LOCATION:A'maize'n Maze Corner Fairview & George Ward Roads
SUMMARY:The A'MAIZE'N MAZE 2025
DESCRIPTION:Back by popular demand\,  the Barton Rural Home and School Comm
 ittee is proud to present The A’MAIZE’N MAZE 2025.  A maze in a maize 
 field\,  full of fun and challenge\,  not to be missed! $5 person aged 15 &
 amp; over $3 per child Scare Night $5 per entry Covered Footwear[..]\nhttps
 ://southcanterbury.org.nz/events/the-amaizen-maze-2025/var/ri-1.l-L1
URL:https://southcanterbury.org.nz/events/the-amaizen-maze-2025/var/ri-1.l-L1
END:VEVENT
END:VCALENDAR