BEGIN:VCALENDAR
VERSION:2.0
PRODID:-//eventon.com NONSGML v1.0//EN
CALSCALE:GREGORIAN
METHOD:PUBLISH
BEGIN:VEVENT
UID:69eceeb047974
DTSTAMP:20260425T164120Z
DTSTART:20250329T010000Z
DTEND:20250329T033000Z
LOCATION:Red Bird Gallery 218a Stafford street Timaru
SUMMARY:Paint your heart out with Lesley Brown
DESCRIPTION:Come spend an afternoon creating your own ‘heart work’. Lea
 rn about the benefits of making and viewing art. Enjoy the company of fello
 w creatives surrounded by artwork displayed in the beautiful Red Bird Galle
 ry We will supply materials\,  provide guided instruction\,  as well as a g
 lass of bubbles and a[..]\nhttps://southcanterbury.org.nz/events/paint-your
 -heart-out-with-lesley-brown/
URL:https://southcanterbury.org.nz/events/paint-your-heart-out-with-lesley-brown/
END:VEVENT
END:VCALENDAR