BEGIN:VCALENDAR
VERSION:2.0
PRODID:-//eventon.com NONSGML v1.0//EN
CALSCALE:GREGORIAN
METHOD:PUBLISH
BEGIN:VEVENT
UID:69e1b850bac8d
DTSTAMP:20260417T043424Z
DTSTART:20260220
DTEND:20260221
LOCATION:Twizel Twizel\,  New Zealand 7910
SUMMARY:Spirited Women All Women’s Adventure Race 2026
DESCRIPTION:JOIN US IN TWIZEL IN 2026 FOR MORE FUN &amp; ADVENTURE The Spir
 ited Women &#8211; All Women&#8217;s Adventure Race is off to Twizel in the
  legendary Mackenzie Region\,  New Zealand between 20th-22nd February 2026\
 ,  where we have yet another epic day of fun and adventure is instore for y
 ou and[..]\nhttps://southcanterbury.org.nz/events/spirited-women-all-womens
 -adventure-race-2026/
URL:https://southcanterbury.org.nz/events/spirited-women-all-womens-adventure-race-2026/
END:VEVENT
END:VCALENDAR