BEGIN:VCALENDAR
VERSION:2.0
PRODID:-//eventon.com NONSGML v1.0//EN
CALSCALE:GREGORIAN
METHOD:PUBLISH
BEGIN:VEVENT
UID:69e7ad11deec9
DTSTAMP:20260421T170001Z
DTSTART:20250621
DTEND:20250622
LOCATION:Round Hill Ski Area Tekapo 2544 Lilybank Road\,  Tekapo\,  New Zealand
SUMMARY:Round Hill Ski
DESCRIPTION:Round Hill Ski Area Tekapo season 2025 starts Saturday 21st Jun
 e!\nhttps://southcanterbury.org.nz/events/round-hill-ski/
URL:https://southcanterbury.org.nz/events/round-hill-ski/
END:VEVENT
END:VCALENDAR