BEGIN:VCALENDAR
VERSION:2.0
PRODID:-//eventon.com NONSGML v1.0//EN
CALSCALE:GREGORIAN
METHOD:PUBLISH
BEGIN:VEVENT
UID:69e739e236912
DTSTAMP:20260421T084834Z
DTSTART:20260319
DTEND:20260320
LOCATION:Caroline Bay Caroline bay\,  Timaru\,  New Zealand
SUMMARY:Caroline Bay Rock & Hop 2026
DESCRIPTION:2026 will see Timaru hosting the 10th Caroline Bay Rock and Hop
 \,  featuring Classic\,  Custom and Vintage vehicles. Stalls\,  dances and 
 so much more. See pictures below for a taste of what&#8217;s to come. Hospi
 ce South Canterbury is proud to bring you the Caroline Bay Rock and Hop. No
 t only[..]\nhttps://southcanterbury.org.nz/events/caroline-bay-rock-hop-202
 6/
URL:https://southcanterbury.org.nz/events/caroline-bay-rock-hop-2026/
END:VEVENT
END:VCALENDAR