BEGIN:VCALENDAR
VERSION:2.0
PRODID:-//eventon.com NONSGML v1.0//EN
CALSCALE:GREGORIAN
METHOD:PUBLISH
BEGIN:VEVENT
UID:69e8c2e567f11
DTSTAMP:20260422T124525Z
DTSTART:20260426T053000Z
DTEND:20260426T080000Z
LOCATION:Waimate Regent Theatre cnr Shearman & Slee St\,  Waimate 7924
SUMMARY:The Big Bike Film Night 2026- Waimate
DESCRIPTION:Let the good times ROLL! The screening sensation known as The B
 ig Bike Film Night is back in &#8217;26 for your bike film fix!!! What&#821
 7;s it all about??? The Big Bike Film Night is on a mission- bringing the b
 est cycling short films from around the world together for you.[..]\nhttps:
 //southcanterbury.org.nz/events/the-big-bike-film-night-2026-waimate/
URL:https://southcanterbury.org.nz/events/the-big-bike-film-night-2026-waimate/
END:VEVENT
END:VCALENDAR