BEGIN:VCALENDAR
VERSION:2.0
PRODID:-//eventon.com NONSGML v1.0//EN
CALSCALE:GREGORIAN
METHOD:PUBLISH
BEGIN:VEVENT
UID:69ea62a466a03
DTSTAMP:20260423T181916Z
DTSTART:20260215T010000Z
DTEND:20260215T105900Z
LOCATION:The Croft Homestead 12 Park lane
SUMMARY:High tea & Tour The Croft
DESCRIPTION:You&#8217;re Invited: The Croft Homestead High Tea &amp; Tour!Â
   Step inside the beautifully restrengthened and newly renovated Croft Home
 stead for a special experience you wonâ€™t want to miss! Join us for an exc
 lusive guided tour of this iconic building\,  followed by a delicious\,  el
 egant High Tea served in style. Session[..]\nhttps://southcanterbury.org.nz
 /events/high-tea-tour-the-croft/var/ri-1.l-L1
URL:https://southcanterbury.org.nz/events/high-tea-tour-the-croft/var/ri-1.l-L1
END:VEVENT
END:VCALENDAR