BEGIN:VCALENDAR
VERSION:2.0
PRODID:-//eventon.com NONSGML v1.0//EN
CALSCALE:GREGORIAN
METHOD:PUBLISH
BEGIN:VEVENT
UID:69e34c122021c
DTSTAMP:20260418T091706Z
DTSTART:20260227T203000Z
DTEND:20260228T020000Z
LOCATION:Caroline Bay Caroline bay\,  Timaru\,  New Zealand
SUMMARY:Experience Waka Ana
DESCRIPTION:COME EXPERIENCE WAKA AMA WITH US! As part of Sea Week Timaru\,
   Te Aitarakihi Marae ā Iwi is proud to be joining forces with Waitaha Pad
 dling Club to bring you an epic day out on the water at Caroline Bay!  Thi
 s is our very first open Waka Ama event for the[..]\nhttps://southcanterbur
 y.org.nz/events/experience-waka-ana/
URL:https://southcanterbury.org.nz/events/experience-waka-ana/
END:VEVENT
END:VCALENDAR