BEGIN:VCALENDAR
VERSION:2.0
PRODID:-//eventon.com NONSGML v1.0//EN
CALSCALE:GREGORIAN
METHOD:PUBLISH
BEGIN:VEVENT
UID:69eba77bc01a3
DTSTAMP:20260424T172515Z
DTSTART:20260320T060000Z
DTEND:20260320T100000Z
LOCATION:Caroline Bay Hall Caroline Bay\,  Timaru
SUMMARY:Casino Night
DESCRIPTION:Caroline Bay Rock &amp; Hop Casino Night Make like a millionair
 e and have fun! Ticket Price $30\,  includes glass of bubbles on arrival an
 d $1\, 000\, 000 in Casino funny money. Barry &amp; Jo Taylor -Taylored Mom
 ents\,  are hosting this entertaining fun evening. Try your hand at Blackja
 ck\,  Crown &amp; Anchor\,  Roulette\, [..]\nhttps://southcanterbury.org.nz
 /events/casino-night/
URL:https://southcanterbury.org.nz/events/casino-night/
END:VEVENT
END:VCALENDAR