BEGIN:VCALENDAR
VERSION:2.0
PRODID:-//eventon.com NONSGML v1.0//EN
CALSCALE:GREGORIAN
METHOD:PUBLISH
BEGIN:VEVENT
UID:69e9056db77a6
DTSTAMP:20260422T172917Z
DTSTART:20260410T223000Z
DTEND:20260411T013000Z
LOCATION:Rosewill Hall\,  Timaru 2 Fraser Road\,  Rosewill\,  Timaru
SUMMARY:Mud Festival 2026
DESCRIPTION:Hosted for you by The Y and Tongan Society South Canterbury\,  
 this year&#8217;s mud festival is muddier and better than ever! 💪🔥 An
 d for the littler members of the family (5 and under) we will be holding an
  Easter Egg Hunt and running some of our famous Y Pop Up[..]\nhttps://south
 canterbury.org.nz/events/mud-festival-2026/
URL:https://southcanterbury.org.nz/events/mud-festival-2026/
END:VEVENT
END:VCALENDAR