BEGIN:VCALENDAR
VERSION:2.0
PRODID:-//eventon.com NONSGML v1.0//EN
CALSCALE:GREGORIAN
METHOD:PUBLISH
BEGIN:VEVENT
UID:69e9ddec623de
DTSTAMP:20260423T085300Z
DTSTART:20260404T223000Z
DTEND:20260406T040000Z
LOCATION:Pleasant Point Museum and Railway 16 Afghan St Pleasant Point\,  7903.
SUMMARY:Kiwi The Engine and Friends
DESCRIPTION:🚂 We have Kiwi the Engine and his Friends coming back this E
 aster! 🚂 4th &#8211; 5th April 10:30am &#8211; 4:00pm Adults $16 Childre
 n $8 Family $45 Under 3 free 🎉 We have: ✅ Scenic train rides 🚂🌄 
 ✅Interactive Kiwi character ✅ An inflatable obstacle course for the kid
 s 🎈[..]\nhttps://southcanterbury.org.nz/events/kiwi-the-engine-and-frien
 ds-6/
URL:https://southcanterbury.org.nz/events/kiwi-the-engine-and-friends-6/
END:VEVENT
END:VCALENDAR