BEGIN:VCALENDAR
VERSION:2.0
PRODID:-//eventon.com NONSGML v1.0//EN
CALSCALE:GREGORIAN
METHOD:PUBLISH
BEGIN:VEVENT
UID:69e8c2f875612
DTSTAMP:20260422T124544Z
DTSTART:20260421T210000Z
DTEND:20260424T040000Z
LOCATION:The Croft Homestead 12 Park lane
SUMMARY:Remembering WW2 Soldiers
DESCRIPTION:The Genealogy Society is hosting a special ANZAC Display over t
 hree days in our beautiful Homestead. The public is warmly invited to come 
 along\,  explore the display\,  and have a chat with members of the Genealo
 gy Society. Parking is available at 12 Park Lane. Please note that car park
 s can[..]\nhttps://southcanterbury.org.nz/events/remembering-ww2-soldiers/
URL:https://southcanterbury.org.nz/events/remembering-ww2-soldiers/
END:VEVENT
END:VCALENDAR