BEGIN:VCALENDAR
VERSION:2.0
PRODID:-//eventon.com NONSGML v1.0//EN
CALSCALE:GREGORIAN
METHOD:PUBLISH
BEGIN:VEVENT
UID:69e9e4a396826
DTSTAMP:20260423T092139Z
DTSTART:20260421T034300Z
DTEND:20260421T034300Z
LOCATION:
SUMMARY:Netball player development
DESCRIPTION:This programme focuses on: NetballSmart principles Skill develo
 pment Fun activities Game time Dates: May 3\,  10\,  17\,  &amp; 24 This pr
 ogramme is a key part of our development pathway\,  and we’re asking for 
 the support of our coaches to help make it a success. Register here: https:
 //www.sporty.co.nz/viewform/504752\nhttps://southcanterbury.org.nz/events/n
 etball-player-development-2/
URL:https://southcanterbury.org.nz/events/netball-player-development-2/
END:VEVENT
END:VCALENDAR